BEGIN:VCALENDAR
VERSION:2.0
PRODID:-// - ECPv6.15.20//NONSGML v1.0//EN
CALSCALE:GREGORIAN
METHOD:PUBLISH
X-ORIGINAL-URL:https://dorfverein-haimendorf.de
X-WR-CALDESC:Veranstaltungen für 
REFRESH-INTERVAL;VALUE=DURATION:PT1H
X-Robots-Tag:noindex
X-PUBLISHED-TTL:PT1H
BEGIN:VTIMEZONE
TZID:Europe/Berlin
BEGIN:DAYLIGHT
TZOFFSETFROM:+0100
TZOFFSETTO:+0200
TZNAME:CEST
DTSTART:20250330T010000
END:DAYLIGHT
BEGIN:STANDARD
TZOFFSETFROM:+0200
TZOFFSETTO:+0100
TZNAME:CET
DTSTART:20251026T010000
END:STANDARD
BEGIN:DAYLIGHT
TZOFFSETFROM:+0100
TZOFFSETTO:+0200
TZNAME:CEST
DTSTART:20260329T010000
END:DAYLIGHT
BEGIN:STANDARD
TZOFFSETFROM:+0200
TZOFFSETTO:+0100
TZNAME:CET
DTSTART:20261025T010000
END:STANDARD
BEGIN:DAYLIGHT
TZOFFSETFROM:+0100
TZOFFSETTO:+0200
TZNAME:CEST
DTSTART:20270328T010000
END:DAYLIGHT
BEGIN:STANDARD
TZOFFSETFROM:+0200
TZOFFSETTO:+0100
TZNAME:CET
DTSTART:20271031T010000
END:STANDARD
END:VTIMEZONE
BEGIN:VEVENT
DTSTART;TZID=Europe/Berlin:20260512T190000
DTEND;TZID=Europe/Berlin:20260512T220000
DTSTAMP:20260419T211635
CREATED:20260125T120221Z
LAST-MODIFIED:20260125T120221Z
UID:1120-1778612400-1778623200@dorfverein-haimendorf.de
SUMMARY:Stammtisch
DESCRIPTION:Genießen Sie gesellige Abende und interessante Gespräche bei unserem Stammtisch – der perfekte Treff in gemütlicher Runde.
URL:https://dorfverein-haimendorf.de/event/stammtisch-22/
LOCATION:Gasthaus „Zum Rockenbrunn“\, Rockenbrunn\, Bayern\, Deutschland
END:VEVENT
BEGIN:VEVENT
DTSTART;TZID=Europe/Berlin:20260528T190000
DTEND;TZID=Europe/Berlin:20260528T220000
DTSTAMP:20260419T211635
CREATED:20260125T121945Z
LAST-MODIFIED:20260125T121945Z
UID:1154-1779994800-1780005600@dorfverein-haimendorf.de
SUMMARY:Spieleabend
DESCRIPTION:Für unseren Spieleabend ist eine Anmeldung über info@dorfverein-haimendorf.de erforderlich\, der Ort wird noch bekannt gegeben
URL:https://dorfverein-haimendorf.de/event/spieleabend-24/
END:VEVENT
END:VCALENDAR